BEGIN:VCALENDAR
VERSION:2.0
METHOD:PUBLISH
CALSCALE:GREGORIAN
PRODID:-//Refresh Web Development//Helios Calendar//EN
X-FROM-URL:https://www.bayareascience.org/calendar/index.php?com=details&eID=31282
X-WR-RELCALID:BayAreaScience.org  Ocean Conservation, Fisheries, and Poverty Alleviation - Livestream 20211020T153000
X-WR-TIMEZONE:America/New_York
X-WR-CALNAME:BayAreaScience.org
BEGIN:VEVENT
URL;VALUE=URI:https://www.bayareascience.org/calendar/index.php?com=detail&eID=31282
DTSTART:20211020T153000
DTEND:20211020T153000
SUMMARY: Ocean Conservation\, Fisheries\, and Poverty Alleviation - Livestream
DESCRIPTION:Small-scale nearshore fisheries provide an important source of protein and sustainable livelihoods in developing countries. Yet\, for a number of reasons\, small-scale fisheries pose particular challenges...\n______________________________\nThis Event Downloaded From a Helios Calendar Powered Site
LOCATION:Estuary & Ocean Science Center -  \, \, CA  
CATEGORIES:BayAreaScience.org Events
PRIORITY:0
TRANSP:TRANSPARENT
END:VEVENT
END:VCALENDAR