BEGIN:VCALENDAR
VERSION:2.0
METHOD:PUBLISH
CALSCALE:GREGORIAN
PRODID:-//Refresh Web Development//Helios Calendar//EN
X-FROM-URL:https://www.bayareascience.org/calendar/index.php?com=details&eID=31285
X-WR-RELCALID:BayAreaScience.org TEDx Mountain View - The Heart of Technology 20210923T173000
X-WR-TIMEZONE:America/New_York
X-WR-CALNAME:BayAreaScience.org
BEGIN:VEVENT
URL;VALUE=URI:https://www.bayareascience.org/calendar/index.php?com=detail&eID=31285
DTSTART:20210923T173000
DTEND:20210923T200000
SUMMARY:TEDx Mountain View - The Heart of Technology
DESCRIPTION:Innovation\, diversity\, transformation: positive ideas to shape a positive world.An online TEDx event put on by volunteers to spread good ideas and model the innovation and diversity...\n______________________________\nThis Event Downloaded From a Helios Calendar Powered Site
LOCATION:TEDx -  \, Mountain View\, CA  
CATEGORIES:BayAreaScience.org Events
PRIORITY:0
TRANSP:TRANSPARENT
END:VEVENT
END:VCALENDAR