BEGIN:VCALENDAR
VERSION:2.0
METHOD:PUBLISH
CALSCALE:GREGORIAN
PRODID:-//Refresh Web Development//Helios Calendar//EN
X-FROM-URL:https://www.bayareascience.org/calendar/index.php?com=details&eID=31296
X-WR-RELCALID:BayAreaScience.org The molecules and materials for tomorrow, today 20211004T160000
X-WR-TIMEZONE:America/New_York
X-WR-CALNAME:BayAreaScience.org
BEGIN:VEVENT
URL;VALUE=URI:https://www.bayareascience.org/calendar/index.php?com=detail&eID=31296
DTSTART:20211004T160000
DTEND:20211004T174500
SUMMARY:The molecules and materials for tomorrow\, today
DESCRIPTION:The challenges we face in the 21st century require\, in many cases\, accelerated molecular and materials discovery. In this talk\, I will discuss the research in my group towards the realization of...\n______________________________\nThis Event Downloaded From a Helios Calendar Powered Site
LOCATION:Latimer Hall - UC Berkeley Room 120\, Berkeley\, CA  94720
CATEGORIES:BayAreaScience.org Events
PRIORITY:0
TRANSP:TRANSPARENT
END:VEVENT
END:VCALENDAR