BEGIN:VCALENDAR
VERSION:2.0
METHOD:PUBLISH
CALSCALE:GREGORIAN
PRODID:-//Refresh Web Development//Helios Calendar//EN
X-FROM-URL:https://www.bayareascience.org/calendar/index.php?com=details&eID=31298
X-WR-RELCALID:BayAreaScience.org  Avenging the Dinosaurs: Radar Observations for Planetary Defense - Livestream 20211021T183000
X-WR-TIMEZONE:America/New_York
X-WR-CALNAME:BayAreaScience.org
BEGIN:VEVENT
URL;VALUE=URI:https://www.bayareascience.org/calendar/index.php?com=detail&eID=31298
DTSTART:20211021T183000
DTEND:20211021T193000
SUMMARY: Avenging the Dinosaurs: Radar Observations for Planetary Defense - Livestream
DESCRIPTION:On a nearly daily basis\, Earth is impacted by dust\, meteoroids\, and even small asteroids\, which typically burn up in the atmosphere producing what we call â€œshooting starsâ€. We also...\n______________________________\nThis Event Downloaded From a Helios Calendar Powered Site
LOCATION:UC Riverside -  \, \, CA  
CATEGORIES:BayAreaScience.org Events
PRIORITY:0
TRANSP:TRANSPARENT
END:VEVENT
END:VCALENDAR