BEGIN:VCALENDAR
VERSION:2.0
METHOD:PUBLISH
CALSCALE:GREGORIAN
PRODID:-//Refresh Web Development//Helios Calendar//EN
X-FROM-URL:https://www.bayareascience.org/calendar/index.php?com=details&eID=31305
X-WR-RELCALID:BayAreaScience.org From black holes to fireworks: Understanding astrophysical jets - Livestream 20210927T160000
X-WR-TIMEZONE:America/New_York
X-WR-CALNAME:BayAreaScience.org
BEGIN:VEVENT
URL;VALUE=URI:https://www.bayareascience.org/calendar/index.php?com=detail&eID=31305
DTSTART:20210927T160000
DTEND:20210927T160000
SUMMARY:From black holes to fireworks: Understanding astrophysical jets - Livestream
DESCRIPTION:Black holes are among the most compelling cosmic mysteries known to science. They launch powerful jets with velocities close to the speed of light. Light emitted from these jets reaches Earth and...\n______________________________\nThis Event Downloaded From a Helios Calendar Powered Site
LOCATION:What Physicists Do - Sonoma State University -  \, \, CA  
CATEGORIES:BayAreaScience.org Events
PRIORITY:0
TRANSP:TRANSPARENT
END:VEVENT
END:VCALENDAR