BEGIN:VCALENDAR
VERSION:2.0
METHOD:PUBLISH
CALSCALE:GREGORIAN
PRODID:-//Refresh Web Development//Helios Calendar//EN
X-FROM-URL:https://www.bayareascience.org/calendar/index.php?com=details&eID=31306
X-WR-RELCALID:BayAreaScience.org A Journey from String Theory to Oceanography - Livestream 20211004T160000
X-WR-TIMEZONE:America/New_York
X-WR-CALNAME:BayAreaScience.org
BEGIN:VEVENT
URL;VALUE=URI:https://www.bayareascience.org/calendar/index.php?com=detail&eID=31306
DTSTART:20211004T160000
DTEND:20211004T160000
SUMMARY:A Journey from String Theory to Oceanography - Livestream
DESCRIPTION:While string theory and physical oceanography are quite distant branches of physics\, both describe vast\, unintuitive structures that (may) govern the conditions of our daily lives.Â  I have recently...\n______________________________\nThis Event Downloaded From a Helios Calendar Powered Site
LOCATION:What Physicists Do - Sonoma State University -  \, \, CA  
CATEGORIES:BayAreaScience.org Events
PRIORITY:0
TRANSP:TRANSPARENT
END:VEVENT
END:VCALENDAR