BEGIN:VCALENDAR
VERSION:2.0
METHOD:PUBLISH
CALSCALE:GREGORIAN
PRODID:-//Refresh Web Development//Helios Calendar//EN
X-FROM-URL:https://www.bayareascience.org/calendar/index.php?com=details&eID=31307
X-WR-RELCALID:BayAreaScience.org From Frustrated Quantum Magnetism to Public Policy Research - Livestream 20211011T160000
X-WR-TIMEZONE:America/New_York
X-WR-CALNAME:BayAreaScience.org
BEGIN:VEVENT
URL;VALUE=URI:https://www.bayareascience.org/calendar/index.php?com=detail&eID=31307
DTSTART:20211011T160000
DTEND:20211011T160000
SUMMARY:From Frustrated Quantum Magnetism to Public Policy Research - Livestream
DESCRIPTION:In the first part of this talk\, Dr. Parker will give a quick overview of how physicists think about phase transitions\, and will discuss an example from his own research\, in which he ran large-scale...\n______________________________\nThis Event Downloaded From a Helios Calendar Powered Site
LOCATION:What Physicists Do - Sonoma State University -  \, \, CA  
CATEGORIES:BayAreaScience.org Events
PRIORITY:0
TRANSP:TRANSPARENT
END:VEVENT
END:VCALENDAR