BEGIN:VCALENDAR
VERSION:2.0
METHOD:PUBLISH
CALSCALE:GREGORIAN
PRODID:-//Refresh Web Development//Helios Calendar//EN
X-FROM-URL:https://www.bayareascience.org/calendar/index.php?com=details&eID=31310
X-WR-RELCALID:BayAreaScience.org Building Traversable Wormholes (In Theory) - Livestream 20211101T160000
X-WR-TIMEZONE:America/New_York
X-WR-CALNAME:BayAreaScience.org
BEGIN:VEVENT
URL;VALUE=URI:https://www.bayareascience.org/calendar/index.php?com=detail&eID=31310
DTSTART:20211101T160000
DTEND:20211101T160000
SUMMARY:Building Traversable Wormholes (In Theory) - Livestream
DESCRIPTION:Einstein's Theory of General Relativity tells us that gravity is geometry\, in the form of the curvature of spacetime. But what spacetime shapes are allowed in this theory? Traversable wormholes...\n______________________________\nThis Event Downloaded From a Helios Calendar Powered Site
LOCATION:What Physicists Do - Sonoma State University -  \, \, CA  
CATEGORIES:BayAreaScience.org Events
PRIORITY:0
TRANSP:TRANSPARENT
END:VEVENT
END:VCALENDAR