BEGIN:VCALENDAR
VERSION:2.0
METHOD:PUBLISH
CALSCALE:GREGORIAN
PRODID:-//Refresh Web Development//Helios Calendar//EN
X-FROM-URL:https://www.bayareascience.org/calendar/index.php?com=details&eID=31311
X-WR-RELCALID:BayAreaScience.org Exploring the Cosmos with Superconducting Detectors - Livestream 20211115T160000
X-WR-TIMEZONE:America/New_York
X-WR-CALNAME:BayAreaScience.org
BEGIN:VEVENT
URL;VALUE=URI:https://www.bayareascience.org/calendar/index.php?com=detail&eID=31311
DTSTART:20211115T160000
DTEND:20211115T160000
SUMMARY:Exploring the Cosmos with Superconducting Detectors - Livestream
DESCRIPTION:Our group at JPL has recently deployed a state of the art SNSPD camera at the Palomar 200-in telescope for NASAâ€™s Deep Space Optical Communication project. This camera will act as the downlink...\n______________________________\nThis Event Downloaded From a Helios Calendar Powered Site
LOCATION:What Physicists Do - Sonoma State University -  \, \, CA  
CATEGORIES:BayAreaScience.org Events
PRIORITY:0
TRANSP:TRANSPARENT
END:VEVENT
END:VCALENDAR