BEGIN:VCALENDAR
VERSION:2.0
METHOD:PUBLISH
CALSCALE:GREGORIAN
PRODID:-//Refresh Web Development//Helios Calendar//EN
X-FROM-URL:https://www.bayareascience.org/calendar/index.php?com=details&eID=31316
X-WR-RELCALID:BayAreaScience.org Earth Science Week - Fossil Clues - Livestream 20211015T160000
X-WR-TIMEZONE:America/New_York
X-WR-CALNAME:BayAreaScience.org
BEGIN:VEVENT
URL;VALUE=URI:https://www.bayareascience.org/calendar/index.php?com=detail&eID=31316
DTSTART:20211015T160000
DTEND:20211015T171500
SUMMARY:Earth Science Week - Fossil Clues - Livestream
DESCRIPTION:Celebrate Earth Science Week with the HSU Natural History Museum (NHM) through aÂ live virtual after school program. TheseÂ 75 mins. sessions are geared towards children 8-12...\n______________________________\nThis Event Downloaded From a Helios Calendar Powered Site
LOCATION:Humbold State University Natural History Museum -  \, \, CA United States 
CATEGORIES:BayAreaScience.org Events
PRIORITY:0
TRANSP:TRANSPARENT
END:VEVENT
END:VCALENDAR