BEGIN:VCALENDAR
VERSION:2.0
METHOD:PUBLISH
CALSCALE:GREGORIAN
PRODID:-//Refresh Web Development//Helios Calendar//EN
X-FROM-URL:https://www.bayareascience.org/calendar/index.php?com=details&eID=31330
X-WR-RELCALID:BayAreaScience.org SETI Live:  Unlocking the Secrets of the Universe: Exoplanets and Dark Matter - Livestream 20211007T150000
X-WR-TIMEZONE:America/New_York
X-WR-CALNAME:BayAreaScience.org
BEGIN:VEVENT
URL;VALUE=URI:https://www.bayareascience.org/calendar/index.php?com=detail&eID=31330
DTSTART:20211007T150000
DTEND:20211007T153000
SUMMARY:SETI Live:  Unlocking the Secrets of the Universe: Exoplanets and Dark Matter - Livestream
DESCRIPTION:Jessie Christiansen is an astrophysicist who searches for\, characterizes and catalogues planets orbiting other stars - exoplanets. Sheâ€™s currently working on TESS to find...\n______________________________\nThis Event Downloaded From a Helios Calendar Powered Site
LOCATION:SETI Institute -  \, \, CA  
CATEGORIES:BayAreaScience.org Events
PRIORITY:0
TRANSP:TRANSPARENT
END:VEVENT
END:VCALENDAR