BEGIN:VCALENDAR
VERSION:2.0
METHOD:PUBLISH
CALSCALE:GREGORIAN
PRODID:-//Refresh Web Development//Helios Calendar//EN
X-FROM-URL:https://www.bayareascience.org/calendar/index.php?com=details&eID=31337
X-WR-RELCALID:BayAreaScience.org Morning Hike at La Honda Open Space Preserve - Canceled 20211024T100000
X-WR-TIMEZONE:America/New_York
X-WR-CALNAME:BayAreaScience.org
BEGIN:VEVENT
URL;VALUE=URI:https://www.bayareascience.org/calendar/index.php?com=detail&eID=31337
DTSTART:20211024T100000
DTEND:20211024T120000
SUMMARY:Morning Hike at La Honda Open Space Preserve - Canceled
DESCRIPTION:Experience the sweeping views and gorgeous rolling grasslands of Lower La Honda Creek Open Space Preserve. This moderately strenuous 6-mile hike takes you through POST-protected land\, featuring...\n______________________________\nThis Event Downloaded From a Helios Calendar Powered Site
LOCATION:La Honda Creek Open Space Preserve -  \, Redwood City\, CA  94062
CATEGORIES:BayAreaScience.org Events
PRIORITY:0
TRANSP:TRANSPARENT
END:VEVENT
END:VCALENDAR