BEGIN:VCALENDAR
VERSION:2.0
METHOD:PUBLISH
CALSCALE:GREGORIAN
PRODID:-//Refresh Web Development//Helios Calendar//EN
X-FROM-URL:https://www.bayareascience.org/calendar/index.php?com=details&eID=31342
X-WR-RELCALID:BayAreaScience.org Laser-Based Phase Contrast in Transmission Electron Microscopy 20211015T140000
X-WR-TIMEZONE:America/New_York
X-WR-CALNAME:BayAreaScience.org
BEGIN:VEVENT
URL;VALUE=URI:https://www.bayareascience.org/calendar/index.php?com=detail&eID=31342
DTSTART:20211015T140000
DTEND:20211015T150000
SUMMARY:Laser-Based Phase Contrast in Transmission Electron Microscopy
DESCRIPTION:We have recently shown that laser-based\, quantum-coherent manipulation of free electrons can help overcome long-standing problems in electron microscopy\, specifically cryo-EM.   Our...\n______________________________\nThis Event Downloaded From a Helios Calendar Powered Site
LOCATION:Tan Hall - UC Berkeley Room 180\, Berkeley\, CA  94720
CATEGORIES:BayAreaScience.org Events
PRIORITY:0
TRANSP:TRANSPARENT
END:VEVENT
END:VCALENDAR