BEGIN:VCALENDAR
VERSION:2.0
METHOD:PUBLISH
CALSCALE:GREGORIAN
PRODID:-//Refresh Web Development//Helios Calendar//EN
X-FROM-URL:https://www.bayareascience.org/calendar/index.php?com=details&eID=31344
X-WR-RELCALID:BayAreaScience.org Lightning-fast SQL Queries + Transactions directly on the Data Lake - Livestream 20211025T190000
X-WR-TIMEZONE:America/New_York
X-WR-CALNAME:BayAreaScience.org
BEGIN:VEVENT
URL;VALUE=URI:https://www.bayareascience.org/calendar/index.php?com=detail&eID=31344
DTSTART:20211025T190000
DTEND:20211025T203000
SUMMARY:Lightning-fast SQL Queries + Transactions directly on the Data Lake - Livestream
DESCRIPTION:Data Lakes have been built with a desire to democratize data - to allow more and more people\, tools\, and applications to make use of more and more data. A key capability needed to enable more users...\n______________________________\nThis Event Downloaded From a Helios Calendar Powered Site
LOCATION:SF Bay Association of Computing Machinery -  \, \, CA  
CATEGORIES:BayAreaScience.org Events
PRIORITY:0
TRANSP:TRANSPARENT
END:VEVENT
END:VCALENDAR