BEGIN:VCALENDAR
VERSION:2.0
METHOD:PUBLISH
CALSCALE:GREGORIAN
PRODID:-//Refresh Web Development//Helios Calendar//EN
X-FROM-URL:https://www.bayareascience.org/calendar/index.php?com=details&eID=31345
X-WR-RELCALID:BayAreaScience.org From Astrometry to Discovery - Livestream 20211119T190000
X-WR-TIMEZONE:America/New_York
X-WR-CALNAME:BayAreaScience.org
BEGIN:VEVENT
URL;VALUE=URI:https://www.bayareascience.org/calendar/index.php?com=detail&eID=31345
DTSTART:20211119T190000
DTEND:20211119T190000
SUMMARY:From Astrometry to Discovery - Livestream
DESCRIPTION:The unprecedented high precision of astrometric data released by the European Space Agencyâ€™s Gaia mission provide us a new map of nearby stars and the Milky Way we have never seen before....\n______________________________\nThis Event Downloaded From a Helios Calendar Powered Site
LOCATION:San Mateo County Astronomical Society -  \, \, CA  
CATEGORIES:BayAreaScience.org Events
PRIORITY:0
TRANSP:TRANSPARENT
END:VEVENT
END:VCALENDAR