BEGIN:VCALENDAR
VERSION:2.0
METHOD:PUBLISH
CALSCALE:GREGORIAN
PRODID:-//Refresh Web Development//Helios Calendar//EN
X-FROM-URL:https://www.bayareascience.org/calendar/index.php?com=details&eID=31346
X-WR-RELCALID:BayAreaScience.org Climate-change solutions when there is no more time - Livestream 20211006T190000
X-WR-TIMEZONE:America/New_York
X-WR-CALNAME:BayAreaScience.org
BEGIN:VEVENT
URL;VALUE=URI:https://www.bayareascience.org/calendar/index.php?com=detail&eID=31346
DTSTART:20211006T190000
DTEND:20211006T190000
SUMMARY:Climate-change solutions when there is no more time - Livestream
DESCRIPTION:Our Speaker\, Chris Field\, is a Director at Stanford Woods Institute for the Environment. His research focuses on climate change\, especially solutions that improve lives now\, decrease the amount...\n______________________________\nThis Event Downloaded From a Helios Calendar Powered Site
LOCATION:San Mateo County Democracy for America -  \, \, CA  
CATEGORIES:BayAreaScience.org Events
PRIORITY:0
TRANSP:TRANSPARENT
END:VEVENT
END:VCALENDAR