BEGIN:VCALENDAR
VERSION:2.0
METHOD:PUBLISH
CALSCALE:GREGORIAN
PRODID:-//Refresh Web Development//Helios Calendar//EN
X-FROM-URL:https://www.bayareascience.org/calendar/index.php?com=details&eID=31350
X-WR-RELCALID:BayAreaScience.org The Cost of Convenience: Quest for Solutions to the Plastic Pollution Crisis - Livestream 20211020T140000
X-WR-TIMEZONE:America/New_York
X-WR-CALNAME:BayAreaScience.org
BEGIN:VEVENT
URL;VALUE=URI:https://www.bayareascience.org/calendar/index.php?com=detail&eID=31350
DTSTART:20211020T140000
DTEND:20211020T140000
SUMMARY:The Cost of Convenience: Quest for Solutions to the Plastic Pollution Crisis - Livestream
DESCRIPTION:During the October webinar\, we will be focusing on the connection between the plastic pollution crisis and environmental injustice around the world\, where economically disadvantaged...\n______________________________\nThis Event Downloaded From a Helios Calendar Powered Site
LOCATION:Plastic Polution Coalition -  \, \, CA  
CATEGORIES:BayAreaScience.org Events
PRIORITY:0
TRANSP:TRANSPARENT
END:VEVENT
END:VCALENDAR