BEGIN:VCALENDAR
VERSION:2.0
METHOD:PUBLISH
CALSCALE:GREGORIAN
PRODID:-//Refresh Web Development//Helios Calendar//EN
X-FROM-URL:https://www.bayareascience.org/calendar/index.php?com=details&eID=31351
X-WR-RELCALID:BayAreaScience.org The Water-Energy Nexus: Driving Equitable Climate Solutions - Livestream 20211014T100000
X-WR-TIMEZONE:America/New_York
X-WR-CALNAME:BayAreaScience.org
BEGIN:VEVENT
URL;VALUE=URI:https://www.bayareascience.org/calendar/index.php?com=detail&eID=31351
DTSTART:20211014T100000
DTEND:20211014T113000
SUMMARY:The Water-Energy Nexus: Driving Equitable Climate Solutions - Livestream
DESCRIPTION:There is a strong link\, often referred to as the water-energy nexus\, between water\, energy\, and the climate crisis. Reducing energy demand - and thereby reliance on fossil fuels - is...\n______________________________\nThis Event Downloaded From a Helios Calendar Powered Site
LOCATION:The Climate Center -  \, \, CA  
CATEGORIES:BayAreaScience.org Events
PRIORITY:0
TRANSP:TRANSPARENT
END:VEVENT
END:VCALENDAR