BEGIN:VCALENDAR
VERSION:2.0
METHOD:PUBLISH
CALSCALE:GREGORIAN
PRODID:-//Refresh Web Development//Helios Calendar//EN
X-FROM-URL:https://www.bayareascience.org/calendar/index.php?com=details&eID=31352
X-WR-RELCALID:BayAreaScience.org Why Mobility is Destiny 20211109T190000
X-WR-TIMEZONE:America/New_York
X-WR-CALNAME:BayAreaScience.org
BEGIN:VEVENT
URL;VALUE=URI:https://www.bayareascience.org/calendar/index.php?com=detail&eID=31352
DTSTART:20211109T190000
DTEND:20211109T190000
SUMMARY:Why Mobility is Destiny
DESCRIPTION:The...\n______________________________\nThis Event Downloaded From a Helios Calendar Powered Site
LOCATION:Long Now Foundation - SF Jazz Center 201 Franklin St\, San Francisco\, CA  94102
CATEGORIES:BayAreaScience.org Events
PRIORITY:0
TRANSP:TRANSPARENT
END:VEVENT
END:VCALENDAR