BEGIN:VCALENDAR
VERSION:2.0
METHOD:PUBLISH
CALSCALE:GREGORIAN
PRODID:-//Refresh Web Development//Helios Calendar//EN
X-FROM-URL:https://www.bayareascience.org/calendar/index.php?com=details&eID=31355
X-WR-RELCALID:BayAreaScience.org A Career Journey in the field of Environmental Toxicology - Livestream 20211113T103000
X-WR-TIMEZONE:America/New_York
X-WR-CALNAME:BayAreaScience.org
BEGIN:VEVENT
URL;VALUE=URI:https://www.bayareascience.org/calendar/index.php?com=detail&eID=31355
DTSTART:20211113T103000
DTEND:20211113T120000
SUMMARY:A Career Journey in the field of Environmental Toxicology - Livestream
DESCRIPTION:Dr. Alicia Taylor\, California...\n______________________________\nThis Event Downloaded From a Helios Calendar Powered Site
LOCATION:California Section American Chemical Society -  \, \, CA  
CATEGORIES:BayAreaScience.org Events
PRIORITY:0
TRANSP:TRANSPARENT
END:VEVENT
END:VCALENDAR