BEGIN:VCALENDAR
VERSION:2.0
METHOD:PUBLISH
CALSCALE:GREGORIAN
PRODID:-//Refresh Web Development//Helios Calendar//EN
X-FROM-URL:https://www.bayareascience.org/calendar/index.php?com=details&eID=31361
X-WR-RELCALID:BayAreaScience.org Compound Climate Risk Threatens Aquatic Food System Benefits - Livestream 20211014T113000
X-WR-TIMEZONE:America/New_York
X-WR-CALNAME:BayAreaScience.org
BEGIN:VEVENT
URL;VALUE=URI:https://www.bayareascience.org/calendar/index.php?com=detail&eID=31361
DTSTART:20211014T113000
DTEND:20211014T123000
SUMMARY:Compound Climate Risk Threatens Aquatic Food System Benefits - Livestream
DESCRIPTION:Aquatic foods from marine and freshwater systems are critical to the nutrition\, health\, livelihoods\, economies and culture of billions of people worldwide - but climate-related hazards may compromise...\n______________________________\nThis Event Downloaded From a Helios Calendar Powered Site
LOCATION:Stanford University -  \, \, CA  
CATEGORIES:BayAreaScience.org Events
PRIORITY:0
TRANSP:TRANSPARENT
END:VEVENT
END:VCALENDAR