BEGIN:VCALENDAR
VERSION:2.0
METHOD:PUBLISH
CALSCALE:GREGORIAN
PRODID:-//Refresh Web Development//Helios Calendar//EN
X-FROM-URL:https://www.bayareascience.org/calendar/index.php?com=details&eID=31363
X-WR-RELCALID:BayAreaScience.org Code Red for Humanityâ€: The IPCC Sixth Assessment Report on Climate Change - Livestream 20211012T130000
X-WR-TIMEZONE:America/New_York
X-WR-CALNAME:BayAreaScience.org
BEGIN:VEVENT
URL;VALUE=URI:https://www.bayareascience.org/calendar/index.php?com=detail&eID=31363
DTSTART:20211012T130000
DTEND:20211012T140000
SUMMARY:Code Red for Humanityâ€: The IPCC Sixth Assessment Report on Climate Change - Livestream
DESCRIPTION:The Intergovernmental Panel on Climate Change...\n______________________________\nThis Event Downloaded From a Helios Calendar Powered Site
LOCATION:Stanford University -  \, \, CA  
CATEGORIES:BayAreaScience.org Events
PRIORITY:0
TRANSP:TRANSPARENT
END:VEVENT
END:VCALENDAR