BEGIN:VCALENDAR
VERSION:2.0
METHOD:PUBLISH
CALSCALE:GREGORIAN
PRODID:-//Refresh Web Development//Helios Calendar//EN
X-FROM-URL:https://www.bayareascience.org/calendar/index.php?com=details&eID=31364
X-WR-RELCALID:BayAreaScience.org Data-driven and data-assisted modeling for applications in fluid dynamics and geophysics - Livestream 20211011T110000
X-WR-TIMEZONE:America/New_York
X-WR-CALNAME:BayAreaScience.org
BEGIN:VEVENT
URL;VALUE=URI:https://www.bayareascience.org/calendar/index.php?com=detail&eID=31364
DTSTART:20211011T110000
DTEND:20211011T120000
SUMMARY:Data-driven and data-assisted modeling for applications in fluid dynamics and geophysics - Livestream
DESCRIPTION:Advances in the field of Machine Learning (ML) have theÂ potential to be important in developing tools for scientificÂ disciplines such as climate modeling\, weather prediction\, andÂ computational...\n______________________________\nThis Event Downloaded From a Helios Calendar Powered Site
LOCATION:Berkeley Institute for Data Science -  \, \, CA  
CATEGORIES:BayAreaScience.org Events
PRIORITY:0
TRANSP:TRANSPARENT
END:VEVENT
END:VCALENDAR