BEGIN:VCALENDAR
VERSION:2.0
METHOD:PUBLISH
CALSCALE:GREGORIAN
PRODID:-//Refresh Web Development//Helios Calendar//EN
X-FROM-URL:https://www.bayareascience.org/calendar/index.php?com=details&eID=31372
X-WR-RELCALID:BayAreaScience.org The Human and Economic Costs of Climate Inaction  - Livestream 20211118T100000
X-WR-TIMEZONE:America/New_York
X-WR-CALNAME:BayAreaScience.org
BEGIN:VEVENT
URL;VALUE=URI:https://www.bayareascience.org/calendar/index.php?com=detail&eID=31372
DTSTART:20211118T100000
DTEND:20211118T113000
SUMMARY:The Human and Economic Costs of Climate Inaction  - Livestream
DESCRIPTION:Achieving a climate-safe future for California will require massive investments\, both public and private\, in all sectors of the economy. But people across the state are already paying a heavy price...\n______________________________\nThis Event Downloaded From a Helios Calendar Powered Site
LOCATION:The Climate Center -  \, \, CA  
CATEGORIES:BayAreaScience.org Events
PRIORITY:0
TRANSP:TRANSPARENT
END:VEVENT
END:VCALENDAR