BEGIN:VCALENDAR
VERSION:2.0
METHOD:PUBLISH
CALSCALE:GREGORIAN
PRODID:-//Refresh Web Development//Helios Calendar//EN
X-FROM-URL:https://www.bayareascience.org/calendar/index.php?com=details&eID=31383
X-WR-RELCALID:BayAreaScience.org Fungiaolo - The History, Heritage, Lore and Food of the Italian American Mushroom Hunters 20211020T190000
X-WR-TIMEZONE:America/New_York
X-WR-CALNAME:BayAreaScience.org
BEGIN:VEVENT
URL;VALUE=URI:https://www.bayareascience.org/calendar/index.php?com=detail&eID=31383
DTSTART:20211020T190000
DTEND:20211020T190000
SUMMARY:Fungiaolo - The History\, Heritage\, Lore and Food of the Italian American Mushroom Hunters
DESCRIPTION:Todd Spaniard\, CEO\, King of Mushrooms\, will again be be sharing with us his experience and knowledge.Attend in person or online.\n______________________________\nThis Event Downloaded From a Helios Calendar Powered Site
LOCATION:Santa Cruz Museum of Natural History - 1305 E Cliff Dr \, Santa Cruz\, CA  95062
CATEGORIES:BayAreaScience.org Events
PRIORITY:0
TRANSP:TRANSPARENT
END:VEVENT
END:VCALENDAR