BEGIN:VCALENDAR
VERSION:2.0
METHOD:PUBLISH
CALSCALE:GREGORIAN
PRODID:-//Refresh Web Development//Helios Calendar//EN
X-FROM-URL:https://www.bayareascience.org/calendar/index.php?com=details&eID=31385
X-WR-RELCALID:BayAreaScience.org The Mushrooms of Cacadia: Why I wrote a new kind of field guide - Livestream 20211116T190000
X-WR-TIMEZONE:America/New_York
X-WR-CALNAME:BayAreaScience.org
BEGIN:VEVENT
URL;VALUE=URI:https://www.bayareascience.org/calendar/index.php?com=detail&eID=31385
DTSTART:20211116T190000
DTEND:20211116T210000
SUMMARY:The Mushrooms of Cacadia: Why I wrote a new kind of field guide - Livestream
DESCRIPTION:In creating Mushrooms of Cascadia: An Illustrated Key. I wanted a book small enough to carry and use in the woods yet with a broad coverage of species\, something far more reliable than...\n______________________________\nThis Event Downloaded From a Helios Calendar Powered Site
LOCATION:Mycological Society of San Francisco -  \, \, CA  
CATEGORIES:BayAreaScience.org Events
PRIORITY:0
TRANSP:TRANSPARENT
END:VEVENT
END:VCALENDAR