BEGIN:VCALENDAR
VERSION:2.0
METHOD:PUBLISH
CALSCALE:GREGORIAN
PRODID:-//Refresh Web Development//Helios Calendar//EN
X-FROM-URL:https://www.bayareascience.org/calendar/index.php?com=details&eID=31391
X-WR-RELCALID:BayAreaScience.org Lawrence Berkeley Lab Virtual Tour 20211119T110000
X-WR-TIMEZONE:America/New_York
X-WR-CALNAME:BayAreaScience.org
BEGIN:VEVENT
URL;VALUE=URI:https://www.bayareascience.org/calendar/index.php?com=detail&eID=31391
DTSTART:20211119T110000
DTEND:20211119T123000
SUMMARY:Lawrence Berkeley Lab Virtual Tour
DESCRIPTION:In response to COVID-related social conditions\, Berkeley Lab is offering virtual tours of its facilities to the public. These are pre-scheduled\, live\, interactive\, one-hour long presentations by...\n______________________________\nThis Event Downloaded From a Helios Calendar Powered Site
LOCATION:Lawrence Berkeley National Lab -  \, \, CA  
CATEGORIES:BayAreaScience.org Events
PRIORITY:0
TRANSP:TRANSPARENT
END:VEVENT
END:VCALENDAR