BEGIN:VCALENDAR
VERSION:2.0
METHOD:PUBLISH
CALSCALE:GREGORIAN
PRODID:-//Refresh Web Development//Helios Calendar//EN
X-FROM-URL:https://www.bayareascience.org/calendar/index.php?com=details&eID=31394
X-WR-RELCALID:BayAreaScience.org Animals Asia: Heroes for Moon Bears and More - Livestream 20211013T180000
X-WR-TIMEZONE:America/New_York
X-WR-CALNAME:BayAreaScience.org
BEGIN:VEVENT
URL;VALUE=URI:https://www.bayareascience.org/calendar/index.php?com=detail&eID=31394
DTSTART:20211013T180000
DTEND:20211013T193000
SUMMARY:Animals Asia: Heroes for Moon Bears and More - Livestream
DESCRIPTION:Our guest Jill Robinson\, founder of Animals Asia\, has taken the lead on rescuing over 600 beautiful...\n______________________________\nThis Event Downloaded From a Helios Calendar Powered Site
LOCATION:Oakland Zoo -  \, \, CA  
CATEGORIES:BayAreaScience.org Events
PRIORITY:0
TRANSP:TRANSPARENT
END:VEVENT
END:VCALENDAR