BEGIN:VCALENDAR
VERSION:2.0
METHOD:PUBLISH
CALSCALE:GREGORIAN
PRODID:-//Refresh Web Development//Helios Calendar//EN
X-FROM-URL:https://www.bayareascience.org/calendar/index.php?com=details&eID=31399
X-WR-RELCALID:BayAreaScience.org Disaster Preparedness for People with Diabetes - Livestream 20211014T170000
X-WR-TIMEZONE:America/New_York
X-WR-CALNAME:BayAreaScience.org
BEGIN:VEVENT
URL;VALUE=URI:https://www.bayareascience.org/calendar/index.php?com=detail&eID=31399
DTSTART:20211014T170000
DTEND:20211014T180000
SUMMARY:Disaster Preparedness for People with Diabetes - Livestream
DESCRIPTION:Managing diabetes can be even harder when you are dealing with a natural disaster\, such as a major storm\, loss of electricity\, or maybe a possible evacuation from your home. Building a â€œdiabetes...\n______________________________\nThis Event Downloaded From a Helios Calendar Powered Site
LOCATION:Stanford University -  \, \, CA  
CATEGORIES:BayAreaScience.org Events
PRIORITY:0
TRANSP:TRANSPARENT
END:VEVENT
END:VCALENDAR