BEGIN:VCALENDAR
VERSION:2.0
METHOD:PUBLISH
CALSCALE:GREGORIAN
PRODID:-//Refresh Web Development//Helios Calendar//EN
X-FROM-URL:https://www.bayareascience.org/calendar/index.php?com=details&eID=31406
X-WR-RELCALID:BayAreaScience.org When and How Will Nature Provide Urban Solutions? - Livestream 20211021T080000
X-WR-TIMEZONE:America/New_York
X-WR-CALNAME:BayAreaScience.org
BEGIN:VEVENT
URL;VALUE=URI:https://www.bayareascience.org/calendar/index.php?com=detail&eID=31406
DTSTART:20211021T080000
DTEND:20211021T093000
SUMMARY:When and How Will Nature Provide Urban Solutions? - Livestream
DESCRIPTION:Cities must manage multiple\, interacting challenges such as climate change\, air and water pollution\, flooding\, heatwaves\, affordable housing\, public health\, and socio-economic and environmental...\n______________________________\nThis Event Downloaded From a Helios Calendar Powered Site
LOCATION:Stanford University -  \, \, CA  
CATEGORIES:BayAreaScience.org Events
PRIORITY:0
TRANSP:TRANSPARENT
END:VEVENT
END:VCALENDAR