BEGIN:VCALENDAR
VERSION:2.0
METHOD:PUBLISH
CALSCALE:GREGORIAN
PRODID:-//Refresh Web Development//Helios Calendar//EN
X-FROM-URL:https://www.bayareascience.org/calendar/index.php?com=details&eID=31408
X-WR-RELCALID:BayAreaScience.org Science on Tap: AprÃ¨s Nous, Le DÃ©luge? A View From the Antarctic Doomsday Glacier 20211027T190000
X-WR-TIMEZONE:America/New_York
X-WR-CALNAME:BayAreaScience.org
BEGIN:VEVENT
URL;VALUE=URI:https://www.bayareascience.org/calendar/index.php?com=detail&eID=31408
DTSTART:20211027T190000
DTEND:20211027T190000
SUMMARY:Science on Tap: AprÃ¨s Nous\, Le DÃ©luge? A View From the Antarctic Doomsday Glacier
DESCRIPTION:The Antarctic ice sheet formed 34 million years ago when carbon dioxide concentration in Earth's atmosphere dropped below 600 ppm. During ice age cycles of the last million years\, carbon dioxide...\n______________________________\nThis Event Downloaded From a Helios Calendar Powered Site
LOCATION:Museum of Art and History - 705 Front St Back Patio\, Santa Cruz\, CA  95060
CATEGORIES:BayAreaScience.org Events
PRIORITY:0
TRANSP:TRANSPARENT
END:VEVENT
END:VCALENDAR