BEGIN:VCALENDAR
VERSION:2.0
METHOD:PUBLISH
CALSCALE:GREGORIAN
PRODID:-//Refresh Web Development//Helios Calendar//EN
X-FROM-URL:https://www.bayareascience.org/calendar/index.php?com=details&eID=31413
X-WR-RELCALID:BayAreaScience.org Large-scale Spatial Network Models for modeling disease and information passing for people experiencing homelessness in metropolitan areas - Virtual 20211109T160000
X-WR-TIMEZONE:America/New_York
X-WR-CALNAME:BayAreaScience.org
BEGIN:VEVENT
URL;VALUE=URI:https://www.bayareascience.org/calendar/index.php?com=detail&eID=31413
DTSTART:20211109T160000
DTEND:20211109T170000
SUMMARY:Large-scale Spatial Network Models for modeling disease and information passing for people experiencing homelessness in metropolitan areas - Virtual
DESCRIPTION:\n______________________________\nThis Event Downloaded From a Helios Calendar Powered Site
LOCATION:Berkeley Institute for Data Science -  \, \, CA  
CATEGORIES:BayAreaScience.org Events
PRIORITY:0
TRANSP:TRANSPARENT
END:VEVENT
END:VCALENDAR