BEGIN:VCALENDAR
VERSION:2.0
METHOD:PUBLISH
CALSCALE:GREGORIAN
PRODID:-//Refresh Web Development//Helios Calendar//EN
X-FROM-URL:https://www.bayareascience.org/calendar/index.php?com=details&eID=31414
X-WR-RELCALID:BayAreaScience.org Understanding the ghost particle - Livestream 20211104T100000
X-WR-TIMEZONE:America/New_York
X-WR-CALNAME:BayAreaScience.org
BEGIN:VEVENT
URL;VALUE=URI:https://www.bayareascience.org/calendar/index.php?com=detail&eID=31414
DTSTART:20211104T100000
DTEND:20211104T111500
SUMMARY:Understanding the ghost particle - Livestream
DESCRIPTION:Prof Daniela Bortoletto - Head of Particle Physics\, Oxford University\, will host this lecture\, and moderate the Q&A session after the talks.Speakers will be:Prof David WarkProf...\n______________________________\nThis Event Downloaded From a Helios Calendar Powered Site
LOCATION:Oxford University -  \, \, CA  
CATEGORIES:BayAreaScience.org Events
PRIORITY:0
TRANSP:TRANSPARENT
END:VEVENT
END:VCALENDAR