BEGIN:VCALENDAR
VERSION:2.0
METHOD:PUBLISH
CALSCALE:GREGORIAN
PRODID:-//Refresh Web Development//Helios Calendar//EN
X-FROM-URL:https://www.bayareascience.org/calendar/index.php?com=details&eID=31416
X-WR-RELCALID:BayAreaScience.org Exotic Solar Systems on the Path to Earth-Like Planets - Livestream 20211023T200000
X-WR-TIMEZONE:America/New_York
X-WR-CALNAME:BayAreaScience.org
BEGIN:VEVENT
URL;VALUE=URI:https://www.bayareascience.org/calendar/index.php?com=detail&eID=31416
DTSTART:20211023T200000
DTEND:20211023T213000
SUMMARY:Exotic Solar Systems on the Path to Earth-Like Planets - Livestream
DESCRIPTION:Humans have long wondered about other planetary systems and if potentially Earth-like worlds exist around other stars. NASA's Kepler mission was designed to answer these questions. The Kepler telescope...\n______________________________\nThis Event Downloaded From a Helios Calendar Powered Site
LOCATION:San Jose Astronomical Society -  \, \, CA  
CATEGORIES:BayAreaScience.org Events
PRIORITY:0
TRANSP:TRANSPARENT
END:VEVENT
END:VCALENDAR