BEGIN:VCALENDAR
VERSION:2.0
METHOD:PUBLISH
CALSCALE:GREGORIAN
PRODID:-//Refresh Web Development//Helios Calendar//EN
X-FROM-URL:https://www.bayareascience.org/calendar/index.php?com=details&eID=31419
X-WR-RELCALID:BayAreaScience.org The Secret Lives of Sponges: Understanding Ancient Animals at Their Own Pace - Livestream 20211106T190000
X-WR-TIMEZONE:America/New_York
X-WR-CALNAME:BayAreaScience.org
BEGIN:VEVENT
URL;VALUE=URI:https://www.bayareascience.org/calendar/index.php?com=detail&eID=31419
DTSTART:20211106T190000
DTEND:20211106T203000
SUMMARY:The Secret Lives of Sponges: Understanding Ancient Animals at Their Own Pace - Livestream
DESCRIPTION:Deep sea researcher Dr. Amanda Kahn of Moss Landing Marine Laboratories and San Jose State University will share her latest findings on the secret lives of sponges at. Vast reefs and gardens of...\n______________________________\nThis Event Downloaded From a Helios Calendar Powered Site
LOCATION:Greater Farallones Association -  \, \, CA  
CATEGORIES:BayAreaScience.org Events
PRIORITY:0
TRANSP:TRANSPARENT
END:VEVENT
END:VCALENDAR