BEGIN:VCALENDAR
VERSION:2.0
METHOD:PUBLISH
CALSCALE:GREGORIAN
PRODID:-//Refresh Web Development//Helios Calendar//EN
X-FROM-URL:https://www.bayareascience.org/calendar/index.php?com=details&eID=31427
X-WR-RELCALID:BayAreaScience.org A tale of tails: the genetic basis of morphological and behavioral adaptation - Livestream 20211025T160000
X-WR-TIMEZONE:America/New_York
X-WR-CALNAME:BayAreaScience.org
BEGIN:VEVENT
URL;VALUE=URI:https://www.bayareascience.org/calendar/index.php?com=detail&eID=31427
DTSTART:20211025T160000
DTEND:20211025T170000
SUMMARY:A tale of tails: the genetic basis of morphological and behavioral adaptation - Livestream
DESCRIPTION:Hopi E. Hoekstra is the Alexander Agassiz Professor of Zoology in the Departments of Organismic & Evolutionary Biology and the Molecular & Cellular Biology at Harvard University.Â ...\n______________________________\nThis Event Downloaded From a Helios Calendar Powered Site
LOCATION:Stanford University -  \, \, CA  
CATEGORIES:BayAreaScience.org Events
PRIORITY:0
TRANSP:TRANSPARENT
END:VEVENT
END:VCALENDAR