BEGIN:VCALENDAR
VERSION:2.0
METHOD:PUBLISH
CALSCALE:GREGORIAN
PRODID:-//Refresh Web Development//Helios Calendar//EN
X-FROM-URL:https://www.bayareascience.org/calendar/index.php?com=details&eID=31434
X-WR-RELCALID:BayAreaScience.org The Hubble Tension: Is There Evidence for New Physics? - Livestream 20211025T140000
X-WR-TIMEZONE:America/New_York
X-WR-CALNAME:BayAreaScience.org
BEGIN:VEVENT
URL;VALUE=URI:https://www.bayareascience.org/calendar/index.php?com=detail&eID=31434
DTSTART:20211025T140000
DTEND:20211025T150000
SUMMARY:The Hubble Tension: Is There Evidence for New Physics? - Livestream
DESCRIPTION:An important and unresolvedÂ question in cosmology today is whether there is new physics that is missing from our current standard Lambda Cold Dark Matter (LCDM) model. Recent measurements of...\n______________________________\nThis Event Downloaded From a Helios Calendar Powered Site
LOCATION:Kavli Institute for Particle Physics & Cosmology -  \, \, CA  
CATEGORIES:BayAreaScience.org Events
PRIORITY:0
TRANSP:TRANSPARENT
END:VEVENT
END:VCALENDAR