BEGIN:VCALENDAR
VERSION:2.0
METHOD:PUBLISH
CALSCALE:GREGORIAN
PRODID:-//Refresh Web Development//Helios Calendar//EN
X-FROM-URL:https://www.bayareascience.org/calendar/index.php?com=details&eID=31437
X-WR-RELCALID:BayAreaScience.org First Results - and afterthoughts - from the Fermilab Muon g-2 Experiment - Livestream 20211026T163000
X-WR-TIMEZONE:America/New_York
X-WR-CALNAME:BayAreaScience.org
BEGIN:VEVENT
URL;VALUE=URI:https://www.bayareascience.org/calendar/index.php?com=detail&eID=31437
DTSTART:20211026T163000
DTEND:20211026T163000
SUMMARY:First Results - and afterthoughts - from the Fermilab Muon g-2 Experiment - Livestream
DESCRIPTION:The 2004 Brookhaven measurement of the muonâ€™s anomalous magnetic anomaly was more than 3 standard deviations greater than the recently updated Standard Model...\n______________________________\nThis Event Downloaded From a Helios Calendar Powered Site
LOCATION:Hewlett Teaching Center - 370 Jane Stanford Way\, Room 200 Stanford University\, Stanford\, CA  94305
CATEGORIES:BayAreaScience.org Events
PRIORITY:0
TRANSP:TRANSPARENT
END:VEVENT
END:VCALENDAR