BEGIN:VCALENDAR
VERSION:2.0
METHOD:PUBLISH
CALSCALE:GREGORIAN
PRODID:-//Refresh Web Development//Helios Calendar//EN
X-FROM-URL:https://www.bayareascience.org/calendar/index.php?com=details&eID=31439
X-WR-RELCALID:BayAreaScience.org New Views of our Solar System from the James Webb Space Telescope 20211102T120000
X-WR-TIMEZONE:America/New_York
X-WR-CALNAME:BayAreaScience.org
BEGIN:VEVENT
URL;VALUE=URI:https://www.bayareascience.org/calendar/index.php?com=detail&eID=31439
DTSTART:20211102T120000
DTEND:20211102T130000
SUMMARY:New Views of our Solar System from the James Webb Space Telescope
DESCRIPTION:Join Dr Leigh Fletcher\, a planetary scientist from the University of Leicester\, as he reveals the incredible potential of the James Webb Space Telescope for exploring the diverse environments across...\n______________________________\nThis Event Downloaded From a Helios Calendar Powered Site
LOCATION:Royal Observatory\, Edinburgh -  \, \, CA  
CATEGORIES:BayAreaScience.org Events
PRIORITY:0
TRANSP:TRANSPARENT
END:VEVENT
END:VCALENDAR