BEGIN:VCALENDAR
VERSION:2.0
METHOD:PUBLISH
CALSCALE:GREGORIAN
PRODID:-//Refresh Web Development//Helios Calendar//EN
X-FROM-URL:https://www.bayareascience.org/calendar/index.php?com=details&eID=31440
X-WR-RELCALID:BayAreaScience.org Dangerous Demos 20211028T190000
X-WR-TIMEZONE:America/New_York
X-WR-CALNAME:BayAreaScience.org
BEGIN:VEVENT
URL;VALUE=URI:https://www.bayareascience.org/calendar/index.php?com=detail&eID=31440
DTSTART:20211028T190000
DTEND:20211028T190000
SUMMARY:Dangerous Demos
DESCRIPTION:Donâ€™t flinch! Exploratorium educator Zeke Kossover performs a trio of demonstrations with real science and real danger. Will you volunteer to put your face in the path of a gigantic\, spiked...\n______________________________\nThis Event Downloaded From a Helios Calendar Powered Site
LOCATION:ExplOratorium - Pier 15 (Embarcadero at Green Street)  \, San Francisco\, CA USA 94111
CATEGORIES:BayAreaScience.org Events
PRIORITY:0
TRANSP:TRANSPARENT
END:VEVENT
END:VCALENDAR