BEGIN:VCALENDAR
VERSION:2.0
METHOD:PUBLISH
CALSCALE:GREGORIAN
PRODID:-//Refresh Web Development//Helios Calendar//EN
X-FROM-URL:https://www.bayareascience.org/calendar/index.php?com=details&eID=31453
X-WR-RELCALID:BayAreaScience.org Slam Dependent Surface Lipoproteins of Gram-Negative Bacteria: Protectors and Foragers in Harsh Environments - Livestream 20211101T160000
X-WR-TIMEZONE:America/New_York
X-WR-CALNAME:BayAreaScience.org
BEGIN:VEVENT
URL;VALUE=URI:https://www.bayareascience.org/calendar/index.php?com=detail&eID=31453
DTSTART:20211101T160000
DTEND:20211101T170000
SUMMARY:Slam Dependent Surface Lipoproteins of Gram-Negative Bacteria: Protectors and Foragers in Harsh Environments - Livestream
DESCRIPTION:As a biochemist and microbiologist\, the overarching goal of my research program is to understanding the molecular basis of bacterial pathogenesis with the view of discovering new targets for antibiotics...\n______________________________\nThis Event Downloaded From a Helios Calendar Powered Site
LOCATION:Stanford University -  \, \, CA  
CATEGORIES:BayAreaScience.org Events
PRIORITY:0
TRANSP:TRANSPARENT
END:VEVENT
END:VCALENDAR