BEGIN:VCALENDAR
VERSION:2.0
METHOD:PUBLISH
CALSCALE:GREGORIAN
PRODID:-//Refresh Web Development//Helios Calendar//EN
X-FROM-URL:https://www.bayareascience.org/calendar/index.php?com=details&eID=31459
X-WR-RELCALID:BayAreaScience.org Busting Myths About One of the Largest Volcanic Systems in the World - The Top 10 Misconceptions about Yellowstone Volcanism - Livestream 20211118T190000
X-WR-TIMEZONE:America/New_York
X-WR-CALNAME:BayAreaScience.org
BEGIN:VEVENT
URL;VALUE=URI:https://www.bayareascience.org/calendar/index.php?com=detail&eID=31459
DTSTART:20211118T190000
DTEND:20211118T190000
SUMMARY:Busting Myths About One of the Largest Volcanic Systems in the World - The Top 10 Misconceptions about Yellowstone Volcanism - Livestream
DESCRIPTION:Contrary to popular belief\, Yellowstone is not "overdue" for eruption.Â Volcanoes don't work that way.Â Yellowstone experiences thousands of earthquakes every year\, but these...\n______________________________\nThis Event Downloaded From a Helios Calendar Powered Site
LOCATION:US Geological Survey Public Lecture Series -  \, \, CA  
CATEGORIES:BayAreaScience.org Events
PRIORITY:0
TRANSP:TRANSPARENT
END:VEVENT
END:VCALENDAR