BEGIN:VCALENDAR
VERSION:2.0
METHOD:PUBLISH
CALSCALE:GREGORIAN
PRODID:-//Refresh Web Development//Helios Calendar//EN
X-FROM-URL:https://www.bayareascience.org/calendar/index.php?com=details&eID=31464
X-WR-RELCALID:BayAreaScience.org Astronomy on Tap: Los Angeles - Livestream 20211108T193000
X-WR-TIMEZONE:America/New_York
X-WR-CALNAME:BayAreaScience.org
BEGIN:VEVENT
URL;VALUE=URI:https://www.bayareascience.org/calendar/index.php?com=detail&eID=31464
DTSTART:20211108T193000
DTEND:20211108T213000
SUMMARY:Astronomy on Tap: Los Angeles - Livestream
DESCRIPTION:Join us for a special Astronomy on Tap celebrating the imminent launch of the James Webb Space Telescope streamed over YouTube Live. Weâ€™ll hear from Dr....\n______________________________\nThis Event Downloaded From a Helios Calendar Powered Site
LOCATION:Astronomy on Tap -  \, \, CA  
CATEGORIES:BayAreaScience.org Events
PRIORITY:0
TRANSP:TRANSPARENT
END:VEVENT
END:VCALENDAR