BEGIN:VCALENDAR
VERSION:2.0
METHOD:PUBLISH
CALSCALE:GREGORIAN
PRODID:-//Refresh Web Development//Helios Calendar//EN
X-FROM-URL:https://www.bayareascience.org/calendar/index.php?com=details&eID=31466
X-WR-RELCALID:BayAreaScience.org Denialism: From Climate Change to COVID-19 - Livestream 20211109T090000
X-WR-TIMEZONE:America/New_York
X-WR-CALNAME:BayAreaScience.org
BEGIN:VEVENT
URL;VALUE=URI:https://www.bayareascience.org/calendar/index.php?com=detail&eID=31466
DTSTART:20211109T090000
DTEND:20211109T100000
SUMMARY:Denialism: From Climate Change to COVID-19 - Livestream
DESCRIPTION:The preponderance of scientific evidence collected over the course of the past several decades shows that anthropogenic climate change is occurring. However\, as documented by historians and journalists\,...\n______________________________\nThis Event Downloaded From a Helios Calendar Powered Site
LOCATION:Stanford University -  \, \, CA  
CATEGORIES:BayAreaScience.org Events
PRIORITY:0
TRANSP:TRANSPARENT
END:VEVENT
END:VCALENDAR