BEGIN:VCALENDAR
VERSION:2.0
METHOD:PUBLISH
CALSCALE:GREGORIAN
PRODID:-//Refresh Web Development//Helios Calendar//EN
X-FROM-URL:https://www.bayareascience.org/calendar/index.php?com=details&eID=31473
X-WR-RELCALID:BayAreaScience.org  Introduction to modern narrow band filters &  Coloring with Narrowband Images using Pixel Math- Livestream 20211119T193000
X-WR-TIMEZONE:America/New_York
X-WR-CALNAME:BayAreaScience.org
BEGIN:VEVENT
URL;VALUE=URI:https://www.bayareascience.org/calendar/index.php?com=detail&eID=31473
DTSTART:20211119T193000
DTEND:20211119T193000
SUMMARY: Introduction to modern narrow band filters &  Coloring with Narrowband Images using Pixel Math- Livestream
DESCRIPTION:For this meeting we will have two speakers. Gert will talk about narrowband filters\, and Kai will talk about Coloring with Narrowband Images using Pixel Math.Amateur astronomers in light...\n______________________________\nThis Event Downloaded From a Helios Calendar Powered Site
LOCATION:Tri-Valley Stargazers -  \, \, CA  
CATEGORIES:BayAreaScience.org Events
PRIORITY:0
TRANSP:TRANSPARENT
END:VEVENT
END:VCALENDAR