BEGIN:VCALENDAR
VERSION:2.0
METHOD:PUBLISH
CALSCALE:GREGORIAN
PRODID:-//Refresh Web Development//Helios Calendar//EN
X-FROM-URL:https://www.bayareascience.org/calendar/index.php?com=details&eID=31474
X-WR-RELCALID:BayAreaScience.org Taking Stock of COP26 - Livestream 20211115T090000
X-WR-TIMEZONE:America/New_York
X-WR-CALNAME:BayAreaScience.org
BEGIN:VEVENT
URL;VALUE=URI:https://www.bayareascience.org/calendar/index.php?com=detail&eID=31474
DTSTART:20211115T090000
DTEND:20211115T090000
SUMMARY:Taking Stock of COP26 - Livestream
DESCRIPTION:In 2015\, delegates from 196 nations entered into the legally binding treaty on climate change known as the Paris Agreement\, which set a goal of limiting global warming to â€œwell below 2 and...\n______________________________\nThis Event Downloaded From a Helios Calendar Powered Site
LOCATION:Commonwealth Club - Online Event -  \, \, CA  
CATEGORIES:BayAreaScience.org Events
PRIORITY:0
TRANSP:TRANSPARENT
END:VEVENT
END:VCALENDAR