BEGIN:VCALENDAR
VERSION:2.0
METHOD:PUBLISH
CALSCALE:GREGORIAN
PRODID:-//Refresh Web Development//Helios Calendar//EN
X-FROM-URL:https://www.bayareascience.org/calendar/index.php?com=details&eID=31477
X-WR-RELCALID:BayAreaScience.org Japan's Energy Policy in Flux: Uncertain Future of Renewables, Nuclear Energy & Carbon Neutrality - Livestream 20211109T160000
X-WR-TIMEZONE:America/New_York
X-WR-CALNAME:BayAreaScience.org
BEGIN:VEVENT
URL;VALUE=URI:https://www.bayareascience.org/calendar/index.php?com=detail&eID=31477
DTSTART:20211109T160000
DTEND:20211109T170000
SUMMARY:Japan's Energy Policy in Flux: Uncertain Future of Renewables\, Nuclear Energy & Carbon Neutrality - Livestream
DESCRIPTION:In April 2021\, then Prime Minister Suga announced to the world that Japan will strive to achieve carbon neutrality by 2050\, seemingly setting the country on a path toward accelerated energy transition...\n______________________________\nThis Event Downloaded From a Helios Calendar Powered Site
LOCATION:Stanford University -  \, \, CA  
CATEGORIES:BayAreaScience.org Events
PRIORITY:0
TRANSP:TRANSPARENT
END:VEVENT
END:VCALENDAR