BEGIN:VCALENDAR
VERSION:2.0
METHOD:PUBLISH
CALSCALE:GREGORIAN
PRODID:-//Refresh Web Development//Helios Calendar//EN
X-FROM-URL:https://www.bayareascience.org/calendar/index.php?com=details&eID=31479
X-WR-RELCALID:BayAreaScience.org SETI Talks: UAPs: Are they worth scientific attention? - Livestream 20211117T190000
X-WR-TIMEZONE:America/New_York
X-WR-CALNAME:BayAreaScience.org
BEGIN:VEVENT
URL;VALUE=URI:https://www.bayareascience.org/calendar/index.php?com=detail&eID=31479
DTSTART:20211117T190000
DTEND:20211117T200000
SUMMARY:SETI Talks: UAPs: Are they worth scientific attention? - Livestream
DESCRIPTION:In June of this year\, an unclassified version of the U.S. Department of Defense released its preliminary report on unidentified aerial phenomena (UAP). The report cataloged and investigated records...\n______________________________\nThis Event Downloaded From a Helios Calendar Powered Site
LOCATION:SETI Institute -  \, \, CA  
CATEGORIES:BayAreaScience.org Events
PRIORITY:0
TRANSP:TRANSPARENT
END:VEVENT
END:VCALENDAR