BEGIN:VCALENDAR
VERSION:2.0
METHOD:PUBLISH
CALSCALE:GREGORIAN
PRODID:-//Refresh Web Development//Helios Calendar//EN
X-FROM-URL:https://www.bayareascience.org/calendar/index.php?com=details&eID=31483
X-WR-RELCALID:BayAreaScience.org International collaboration to advance deep-sea knowledge - Livestream 20211201T110000
X-WR-TIMEZONE:America/New_York
X-WR-CALNAME:BayAreaScience.org
BEGIN:VEVENT
URL;VALUE=URI:https://www.bayareascience.org/calendar/index.php?com=detail&eID=31483
DTSTART:20211201T110000
DTEND:20211201T110000
SUMMARY:International collaboration to advance deep-sea knowledge - Livestream
DESCRIPTION:International scientific collaboration...\n______________________________\nThis Event Downloaded From a Helios Calendar Powered Site
LOCATION:Monterey Bay Aquarium Research Institute -  \, \, CA  
CATEGORIES:BayAreaScience.org Events
PRIORITY:0
TRANSP:TRANSPARENT
END:VEVENT
END:VCALENDAR