BEGIN:VCALENDAR
VERSION:2.0
METHOD:PUBLISH
CALSCALE:GREGORIAN
PRODID:-//Refresh Web Development//Helios Calendar//EN
X-FROM-URL:https://www.bayareascience.org/calendar/index.php?com=details&eID=31485
X-WR-RELCALID:BayAreaScience.org Earth at the Crossroads: Can the Study of Other Worlds Help Us Save This One? - Livestream 20211118T070000
X-WR-TIMEZONE:America/New_York
X-WR-CALNAME:BayAreaScience.org
BEGIN:VEVENT
URL;VALUE=URI:https://www.bayareascience.org/calendar/index.php?com=detail&eID=31485
DTSTART:20211118T070000
DTEND:20211118T150000
SUMMARY:Earth at the Crossroads: Can the Study of Other Worlds Help Us Save This One? - Livestream
DESCRIPTION:Tantalizing new discoveries suggest that we are probably not alone in the universe. And yet\, as Enrico Fermi first put in 1950: where is everybody? Are habitable worlds rare\, unlikely\,...\n______________________________\nThis Event Downloaded From a Helios Calendar Powered Site
LOCATION:SETI Institute -  \, \, CA  
CATEGORIES:BayAreaScience.org Events
PRIORITY:0
TRANSP:TRANSPARENT
END:VEVENT
END:VCALENDAR